BEGIN:VCALENDAR
VERSION:2.0
PRODID:-//Faces &amp; Voices of Recovery - ECPv6.13.2.1//NONSGML v1.0//EN
CALSCALE:GREGORIAN
METHOD:PUBLISH
X-WR-CALNAME:Faces &amp; Voices of Recovery
X-ORIGINAL-URL:https://facesandvoicesofrecovery.org
X-WR-CALDESC:Events for Faces &amp; Voices of Recovery
REFRESH-INTERVAL;VALUE=DURATION:PT1H
X-Robots-Tag:noindex
X-PUBLISHED-TTL:PT1H
BEGIN:VTIMEZONE
TZID:America/New_York
BEGIN:DAYLIGHT
TZOFFSETFROM:-0500
TZOFFSETTO:-0400
TZNAME:EDT
DTSTART:20260308T070000
END:DAYLIGHT
BEGIN:STANDARD
TZOFFSETFROM:-0400
TZOFFSETTO:-0500
TZNAME:EST
DTSTART:20261101T060000
END:STANDARD
END:VTIMEZONE
BEGIN:VEVENT
DTSTART;TZID=America/New_York:20260203T140000
DTEND;TZID=America/New_York:20260203T150000
DTSTAMP:20260421T112346
CREATED:20251124T181908Z
LAST-MODIFIED:20251218T215910Z
UID:10003546-1770127200-1770130800@facesandvoicesofrecovery.org
SUMMARY:[ORN] Community Health and Wellbeing Webinar: People Living with HIV
DESCRIPTION:This webinar will examine the factors that contribute to discrepancies in health outcomes for people living with HIV. Participants will explore the unique challenges of accessing care and support across communities and discuss strategies to reduce barriers\, enhance services\, and strengthen overall health and wellbeing.
URL:https://facesandvoicesofrecovery.org/event/people-living-with-hiv/
LOCATION:Zoom Room
CATEGORIES:ORN
ATTACH;FMTTYPE=image/jpeg:https://facesandvoicesofrecovery.org/wp-content/uploads/Featured-Images/070623_programs_featured_image_ORN-update_2800x800-scaled.jpg
END:VEVENT
BEGIN:VEVENT
DTSTART;TZID=America/New_York:20260205T140000
DTEND;TZID=America/New_York:20260205T150000
DTSTAMP:20260421T112346
CREATED:20251124T181916Z
LAST-MODIFIED:20260122T175004Z
UID:10003547-1770300000-1770303600@facesandvoicesofrecovery.org
SUMMARY:[ORN] Community Health and Wellbeing Webinar: Pregnant and Parenting
DESCRIPTION:This webinar will examine the challenges that pregnant and parenting peers face in accessing and receiving support services. Participants will explore the factors that contribute to disparities in health outcomes and discuss strategies to better support this population through peer-led and community-based approaches.
URL:https://facesandvoicesofrecovery.org/event/pregnant-and-parenting/
LOCATION:Zoom Room
CATEGORIES:ORN
ATTACH;FMTTYPE=image/jpeg:https://facesandvoicesofrecovery.org/wp-content/uploads/Featured-Images/070623_programs_featured_image_ORN-update_2800x800-scaled.jpg
END:VEVENT
BEGIN:VEVENT
DTSTART;TZID=America/New_York:20260210T140000
DTEND;TZID=America/New_York:20260210T150000
DTSTAMP:20260421T112346
CREATED:20251124T181922Z
LAST-MODIFIED:20251211T204658Z
UID:10003548-1770732000-1770735600@facesandvoicesofrecovery.org
SUMMARY:[ORN] Community Health and Wellbeing Webinar: Youth Peers
DESCRIPTION:This webinar will explore the factors that contribute to disparities in health outcomes for youth seeking recovery support services. Participants will discuss common challenges faced by youth and consider approaches to improve support\, access\, and outcomes across different communities.
URL:https://facesandvoicesofrecovery.org/event/youth-peers/
LOCATION:Zoom Room
CATEGORIES:ORN
ATTACH;FMTTYPE=image/jpeg:https://facesandvoicesofrecovery.org/wp-content/uploads/Featured-Images/070623_programs_featured_image_ORN-update_2800x800-scaled.jpg
END:VEVENT
BEGIN:VEVENT
DTSTART;TZID=America/New_York:20260212T140000
DTEND;TZID=America/New_York:20260212T150000
DTSTAMP:20260421T112346
CREATED:20251124T181926Z
LAST-MODIFIED:20251211T205407Z
UID:10003549-1770904800-1770908400@facesandvoicesofrecovery.org
SUMMARY:[ORN] Community Health and Wellbeing Webinar: Veterans
DESCRIPTION:This webinar will explore the unique experiences and challenges that veterans face when seeking substance use and recovery support services. Participants will discuss factors that influence access and engagement\, consider the role of peer support within veteran communities\, and examine approaches that foster connection\, trust\, and effective pathways to wellbeing.
URL:https://facesandvoicesofrecovery.org/event/veterans/
LOCATION:Zoom Room
CATEGORIES:ORN
ATTACH;FMTTYPE=image/jpeg:https://facesandvoicesofrecovery.org/wp-content/uploads/Featured-Images/070623_programs_featured_image_ORN-update_2800x800-scaled.jpg
END:VEVENT
BEGIN:VEVENT
DTSTART;TZID=America/New_York:20260217T140000
DTEND;TZID=America/New_York:20260217T150000
DTSTAMP:20260421T112346
CREATED:20251124T181929Z
LAST-MODIFIED:20251211T205633Z
UID:10003550-1771336800-1771340400@facesandvoicesofrecovery.org
SUMMARY:[ORN] Community Health and Wellbeing Webinar: Justice-Involved Community
DESCRIPTION:This webinar will examine the factors that contribute to discrepancies in health outcomes for the justice-involved community. Participants will explore the unique challenges of accessing care and support across these communities and discuss strategies to reduce barriers\, enhance services\, and strengthen overall health and wellbeing.
URL:https://facesandvoicesofrecovery.org/event/justice-impacted/
LOCATION:Zoom Room
CATEGORIES:ORN
ATTACH;FMTTYPE=image/jpeg:https://facesandvoicesofrecovery.org/wp-content/uploads/Featured-Images/070623_programs_featured_image_ORN-update_2800x800-scaled.jpg
END:VEVENT
BEGIN:VEVENT
DTSTART;TZID=America/New_York:20260219T140000
DTEND;TZID=America/New_York:20260219T150000
DTSTAMP:20260421T112346
CREATED:20251124T181936Z
LAST-MODIFIED:20251211T205921Z
UID:10003551-1771509600-1771513200@facesandvoicesofrecovery.org
SUMMARY:[ORN] Community Health and Wellbeing Webinar: Recovery and Rural Communities
DESCRIPTION:This webinar will explore the unique barriers and opportunities related to supporting recovery in rural communities. Participants will discuss challenges such as limited services and geographic isolation\, while examining approaches that strengthen local support networks\, expand access to resources\, and promote community-driven solutions.
URL:https://facesandvoicesofrecovery.org/event/recovery-and-rural-communities-2/
LOCATION:Zoom Room
CATEGORIES:ORN
ATTACH;FMTTYPE=image/jpeg:https://facesandvoicesofrecovery.org/wp-content/uploads/Featured-Images/070623_programs_featured_image_ORN-update_2800x800-scaled.jpg
END:VEVENT
END:VCALENDAR